BEGIN:VCALENDAR
VERSION:2.0
PRODID:-//Library Market//iCal Export//EN
BEGIN:VEVENT
SUMMARY:Animal Ambassadors Memory Cafe
UID:707
DTSTAMP:20260422T021400Z
DTSTART:20260518T200000Z
DTEND:20260518T213000Z
LOCATION:Menomonee Falls Public Library, W156N8436 Pilgrim Rd., Menomonee 
 Falls, WI 53051, United States
ROOM: Animal Ambassadors Memory Cafe
DESCRIPTION:Learn about some small Wisconsin critters and even meet some a
 nimal ambassadors with Retzer Nature Center at our upcoming Memory Cafe!A 
 Memory Cafe is an informal social gathering designed for anyone living wit
 h early-stage memory loss and their care partners.  Please visit our web
 site at LibraryMemoryProject.org for more information.The Menomonee Falls
  Public Library is part of the Wild Plum Memory Project.  Partnering Libr
 aries in the Wild Plum Project include Brookfield Public Library and Pauli
 ne Haas Public Library (Sussex).  The location of the Wild Plum Memory Ca
 fe rotates each month. Here are the locations of upcoming Wild Plum Grou
 p Memory Cafes. June 16: Pauline Haas (Sussex)July 20: BrookfieldAugust 1
 7: Menomonee FallsPlease visit each individual Libraries website or conti
 nue going to LibraryMemoryProject.org for more information. 
URL:https://memoryproject.librarycalendar.com/event/animal-ambassadors-mem
 ory-cafe-707
END:VEVENT
END:VCALENDAR
